BEGIN:VCALENDAR
PRODID:-//Pixl8//Eventfolio//EN
VERSION:2.0
X-WR-TIMEZONE:Europe/London
CALSCALE:GREGORIAN
METHOD:PUBLISH
CLASS:PUBLIC
BEGIN:VTIMEZONE
TZID:Europe/London
LAST-MODIFIED:20260306T231828Z
TZURL:https://www.tzurl.org/zoneinfo-outlook/Europe/London
X-LIC-LOCATION:Europe/London
BEGIN:DAYLIGHT
TZNAME:BST
TZOFFSETFROM:+0000
TZOFFSETTO:+0100
DTSTART:19700329T010000
RRULE:FREQ=YEARLY;BYMONTH=3;BYDAY=-1SU
END:DAYLIGHT
BEGIN:STANDARD
TZNAME:GMT
TZOFFSETFROM:+0100
TZOFFSETTO:+0000
DTSTART:19701025T020000
RRULE:FREQ=YEARLY;BYMONTH=10;BYDAY=-1SU
END:STANDARD
END:VTIMEZONE
BEGIN:VEVENT
DTSTART;TZID=Europe/London:20240603T090000
DTEND;TZID=Europe/London:20240603T163000
DTSTAMP:20260423T110117Z
UID:{65B4B7D8-3B9A-4F6D-AA17D67781B560AE}
LOCATION:BDA Office\, 3rd Floor\, Interchange Place\, 151-165 Edmund Street\, Birmingham\, B3 2TA\, 3rd Floor\, Interchange Place\, 151-165 Edmund Street\, Birmingham\, B3 2TA\, United Kingdom
SUMMARY:Breastfeeding knowledge and skills for dietitians: basic training course 
DESCRIPTION:Event details: https://www.bda.uk.com/events/calendar/breastfeeding-knowledge-and-skills-for-dietitians-basic-training-course.html
PRIORITY:1
END:VEVENT
END:VCALENDAR