BEGIN:VCALENDAR
PRODID:-//Pixl8//Eventfolio//EN
VERSION:2.0
X-WR-TIMEZONE:Europe/London
CALSCALE:GREGORIAN
METHOD:PUBLISH
CLASS:PUBLIC
BEGIN:VTIMEZONE
TZID:Europe/London
LAST-MODIFIED:20260306T231828Z
TZURL:https://www.tzurl.org/zoneinfo-outlook/Europe/London
X-LIC-LOCATION:Europe/London
BEGIN:DAYLIGHT
TZNAME:BST
TZOFFSETFROM:+0000
TZOFFSETTO:+0100
DTSTART:19700329T010000
RRULE:FREQ=YEARLY;BYMONTH=3;BYDAY=-1SU
END:DAYLIGHT
BEGIN:STANDARD
TZNAME:GMT
TZOFFSETFROM:+0100
TZOFFSETTO:+0000
DTSTART:19701025T020000
RRULE:FREQ=YEARLY;BYMONTH=10;BYDAY=-1SU
END:STANDARD
END:VTIMEZONE
BEGIN:VEVENT
DTSTART;TZID=Europe/London:20250327T091500
DTEND;TZID=Europe/London:20250327T163000
DTSTAMP:20260423T162016Z
UID:{BE3F945A-4471-45B9-A6C2A04954C51D5D}
LOCATION:BDA Office\, 3rd Floor\, Interchange Place\, 151-165 Edmund Street\, Birmingham\, B3 2TA\, 3rd Floor\, Interchange Place\, 151-165 Edmund Street\, Birmingham\, B3 2TA\, United Kingdom
SUMMARY:Building on the Skills and Knowledge of Enteral Nutrition
DESCRIPTION:Event details: https://www.bda.uk.com/events/calendar/building-on-the-skills-and-knowledge-of-enteral-nutritionmar25.html
PRIORITY:1
END:VEVENT
END:VCALENDAR