BEGIN:VCALENDAR
PRODID:-//Pixl8//Eventfolio//EN
VERSION:2.0
X-WR-TIMEZONE:Europe/London
CALSCALE:GREGORIAN
METHOD:PUBLISH
CLASS:PUBLIC
BEGIN:VTIMEZONE
TZID:Europe/London
LAST-MODIFIED:20260306T231828Z
TZURL:https://www.tzurl.org/zoneinfo-outlook/Europe/London
X-LIC-LOCATION:Europe/London
BEGIN:DAYLIGHT
TZNAME:BST
TZOFFSETFROM:+0000
TZOFFSETTO:+0100
DTSTART:19700329T010000
RRULE:FREQ=YEARLY;BYMONTH=3;BYDAY=-1SU
END:DAYLIGHT
BEGIN:STANDARD
TZNAME:GMT
TZOFFSETFROM:+0100
TZOFFSETTO:+0000
DTSTART:19701025T020000
RRULE:FREQ=YEARLY;BYMONTH=10;BYDAY=-1SU
END:STANDARD
END:VTIMEZONE
BEGIN:VEVENT
DTSTART;TZID=Europe/London:20260326T083000
DTEND;TZID=Europe/London:20260326T163000
DTSTAMP:20260420T154522Z
UID:{F0010CB1-6A1D-4046-BE07D4246E4DB0B3}
LOCATION:The Granary\, Leeds\, Canal Wharf\, LS11 5PS
SUMMARY:Diabetes Paediatric Sub-Group - A toolkit for Paediatric Diabetes
DESCRIPTION:Event details: https://www.bda.uk.com/events/calendar/diabetes-paediatric-sub-group-a-toolkit-for-paediatric-diabetes.html
PRIORITY:1
END:VEVENT
END:VCALENDAR