BEGIN:VCALENDAR
PRODID:-//Pixl8//Eventfolio//EN
VERSION:2.0
X-WR-TIMEZONE:Europe/London
CALSCALE:GREGORIAN
METHOD:PUBLISH
CLASS:PUBLIC
BEGIN:VTIMEZONE
TZID:Europe/London
LAST-MODIFIED:20260306T231828Z
TZURL:https://www.tzurl.org/zoneinfo-outlook/Europe/London
X-LIC-LOCATION:Europe/London
BEGIN:DAYLIGHT
TZNAME:BST
TZOFFSETFROM:+0000
TZOFFSETTO:+0100
DTSTART:19700329T010000
RRULE:FREQ=YEARLY;BYMONTH=3;BYDAY=-1SU
END:DAYLIGHT
BEGIN:STANDARD
TZNAME:GMT
TZOFFSETFROM:+0100
TZOFFSETTO:+0000
DTSTART:19701025T020000
RRULE:FREQ=YEARLY;BYMONTH=10;BYDAY=-1SU
END:STANDARD
END:VTIMEZONE
BEGIN:VEVENT
DTSTART;TZID=Europe/London:20251013T193000
DTEND;TZID=Europe/London:20251013T203000
DTSTAMP:20260423T162017Z
UID:{0ADDD568-2864-47F5-A75212A5EEE79FC8}
LOCATION:Virtual
SUMMARY:Freelance Specialist Group - Probiotics Decoded: Evidence, Efficacy & Misconceptions
DESCRIPTION:Event details: https://www.bda.uk.com/events/calendar/freelance-specialist-group-probiotics-decoded-evidence-efficacy-misconceptions.html
PRIORITY:1
END:VEVENT
END:VCALENDAR