BEGIN:VCALENDAR
PRODID:-//Pixl8//Eventfolio//EN
VERSION:2.0
X-WR-TIMEZONE:Europe/London
CALSCALE:GREGORIAN
METHOD:PUBLISH
CLASS:PUBLIC
BEGIN:VTIMEZONE
TZID:Europe/London
LAST-MODIFIED:20260306T231828Z
TZURL:https://www.tzurl.org/zoneinfo-outlook/Europe/London
X-LIC-LOCATION:Europe/London
BEGIN:DAYLIGHT
TZNAME:BST
TZOFFSETFROM:+0000
TZOFFSETTO:+0100
DTSTART:19700329T010000
RRULE:FREQ=YEARLY;BYMONTH=3;BYDAY=-1SU
END:DAYLIGHT
BEGIN:STANDARD
TZNAME:GMT
TZOFFSETFROM:+0100
TZOFFSETTO:+0000
DTSTART:19701025T020000
RRULE:FREQ=YEARLY;BYMONTH=10;BYDAY=-1SU
END:STANDARD
END:VTIMEZONE
BEGIN:VEVENT
DTSTART;TZID=Europe/London;VALUE=DATE:20250304
DTEND;TZID=Europe/London;VALUE=DATE:20250305
DTSTAMP:20260421T193956Z
UID:{A2676037-4F3B-40D5-8317C88D75C74803}
LOCATION:Virtual
SUMMARY:Module 2 - Nutrition and Dietetics in Common Paediatric Disorders
DESCRIPTION:Event details: https://www.bda.uk.com/events/calendar/module-2-nutrition-and-dietetics-in-common-paediatric-disorders-4.html
PRIORITY:1
END:VEVENT
END:VCALENDAR